BEGIN:VCALENDAR
VERSION:2.0
PRODID:-//CREDA - ECPv6.15.17.1//NONSGML v1.0//EN
CALSCALE:GREGORIAN
METHOD:PUBLISH
X-ORIGINAL-URL:https://creda.cnrs.fr
X-WR-CALDESC:Évènements pour CREDA
REFRESH-INTERVAL;VALUE=DURATION:PT1H
X-Robots-Tag:noindex
X-PUBLISHED-TTL:PT1H
BEGIN:VTIMEZONE
TZID:Europe/Paris
BEGIN:DAYLIGHT
TZOFFSETFROM:+0100
TZOFFSETTO:+0200
TZNAME:CEST
DTSTART:20220327T010000
END:DAYLIGHT
BEGIN:STANDARD
TZOFFSETFROM:+0200
TZOFFSETTO:+0100
TZNAME:CET
DTSTART:20221030T010000
END:STANDARD
BEGIN:DAYLIGHT
TZOFFSETFROM:+0100
TZOFFSETTO:+0200
TZNAME:CEST
DTSTART:20230326T010000
END:DAYLIGHT
BEGIN:STANDARD
TZOFFSETFROM:+0200
TZOFFSETTO:+0100
TZNAME:CET
DTSTART:20231029T010000
END:STANDARD
BEGIN:DAYLIGHT
TZOFFSETFROM:+0100
TZOFFSETTO:+0200
TZNAME:CEST
DTSTART:20240331T010000
END:DAYLIGHT
BEGIN:STANDARD
TZOFFSETFROM:+0200
TZOFFSETTO:+0100
TZNAME:CET
DTSTART:20241027T010000
END:STANDARD
END:VTIMEZONE
BEGIN:VEVENT
DTSTART;TZID=Europe/Paris:20231124T140000
DTEND;TZID=Europe/Paris:20231124T160000
DTSTAMP:20260419T202307
CREATED:20231108T095103Z
LAST-MODIFIED:20231122T103433Z
UID:9651-1700834400-1700841600@creda.cnrs.fr
SUMMARY:Séminaire Central
DESCRIPTION:Séminaire Central du 24 NOV. 2023  \nLA FORÊT DU SEMI-ARIDE BRÉSILIEN À L’ANTHROPOCÈNE Par Sylvain Souchaud [IRD\, URMIS] \n  \n  \n 
URL:https://creda.cnrs.fr/event/seminaire-central/
LOCATION:salle 15\, bâtiment recherche sud – Campus Condorcet\, 5 Cr des Humanités\, Aubervilliers\, 93300\, France
ATTACH;FMTTYPE=image/jpeg:https://creda.cnrs.fr/wp-content/uploads/2023/11/AFFICHE_SEMINAIRE-CENTRAL_23-24_WEB-scaled.jpg
END:VEVENT
BEGIN:VEVENT
DTSTART;TZID=Europe/Paris:20231124T160000
DTEND;TZID=Europe/Paris:20231124T180000
DTSTAMP:20260419T202307
CREATED:20231108T104237Z
LAST-MODIFIED:20231121T150140Z
UID:9672-1700841600-1700848800@creda.cnrs.fr
SUMMARY:Séminaire ACAP
DESCRIPTION:EXTREMAS DERECHAS ENTRE ARGENTINA\, ESPAÑA E ITALIA. CIRCULACIONES E INTERCAMBIOS (1960-1976)ACTION COLLECTIVE ACTION PUBLIQUE\nAvec Celina Albornoz Docteure en histoire\, actuellement en post-doctorat à l’Universidad Nacional de San Martín\, Buenos Aires \nPrésenté par \nOlivier Compagnon Professeur d’histoire contemporaine\, IHEAL-CREDA \nMarie-Laure Geoffray Maîtresse de conférences en science politique\, IHEAL-CREDA \n  \nLe 24 Novembre 2023 de 16h15 à 18h15 \nCampus CondorcetSalle 0.032 – Bâtiment de recherche sud93322 Aubervilliers \n  \n  \n  \n 
URL:https://creda.cnrs.fr/event/seminaire-acap/
LOCATION:Salle 0.032 Bâtiment recherche sud – Campus Condorcet\, 5 Cr des Humanités\, Aubervilliers\, Sélectionner un État :\, 93300\, France
ATTACH;FMTTYPE=image/jpeg:https://creda.cnrs.fr/wp-content/uploads/2023/11/Seminaire-ACAP-scaled.jpg
END:VEVENT
END:VCALENDAR