BEGIN:VCALENDAR
VERSION:2.0
PRODID:-//CREDA - ECPv6.15.17.1//NONSGML v1.0//EN
CALSCALE:GREGORIAN
METHOD:PUBLISH
X-WR-CALNAME:CREDA
X-ORIGINAL-URL:https://creda.cnrs.fr
X-WR-CALDESC:Évènements pour CREDA
REFRESH-INTERVAL;VALUE=DURATION:PT1H
X-Robots-Tag:noindex
X-PUBLISHED-TTL:PT1H
BEGIN:VTIMEZONE
TZID:Europe/Paris
BEGIN:DAYLIGHT
TZOFFSETFROM:+0100
TZOFFSETTO:+0200
TZNAME:CEST
DTSTART:20230326T010000
END:DAYLIGHT
BEGIN:STANDARD
TZOFFSETFROM:+0200
TZOFFSETTO:+0100
TZNAME:CET
DTSTART:20231029T010000
END:STANDARD
BEGIN:DAYLIGHT
TZOFFSETFROM:+0100
TZOFFSETTO:+0200
TZNAME:CEST
DTSTART:20240331T010000
END:DAYLIGHT
BEGIN:STANDARD
TZOFFSETFROM:+0200
TZOFFSETTO:+0100
TZNAME:CET
DTSTART:20241027T010000
END:STANDARD
BEGIN:DAYLIGHT
TZOFFSETFROM:+0100
TZOFFSETTO:+0200
TZNAME:CEST
DTSTART:20250330T010000
END:DAYLIGHT
BEGIN:STANDARD
TZOFFSETFROM:+0200
TZOFFSETTO:+0100
TZNAME:CET
DTSTART:20251026T010000
END:STANDARD
END:VTIMEZONE
BEGIN:VEVENT
DTSTART;TZID=Europe/Paris:20240403T173000
DTEND;TZID=Europe/Paris:20240403T193000
DTSTAMP:20260419T160824
CREATED:20240327T103706Z
LAST-MODIFIED:20240327T103850Z
UID:11355-1712165400-1712172600@creda.cnrs.fr
SUMMARY:ENCUENTRO DE PERUANISTAS
DESCRIPTION:  \n Vous êtes cordialement invité·es au prochain Encuentro de Peruanistas dans lequel nous accueillons Jesús Cosamalón\, professeur invité à l’IHEAL ce semestre. Historien péruvien\, professeur au “Département Académique des Humanités” (PUCP)\, ses thèmes de recherche sont variés tant par les sujets qu’il aborde que par les périodes étudiées : Histoire culturelle\, histoire sociale\, Histoire démographique\, métissage et groupes sociaux\, informalité\, histoire de l’Amérique coloniale et républicaine\, Histoire de Lima (Pérou)\, enseignement de l’histoire\, Histoire de la musique…   Rencontre avec Jesús Cosamalón Salle 0.032\, Rez-de-chaussée                     Bâtiment de Recherche Sud                     Campus Condorcet\, Aubervilliers  Lien de la visioconférence Événement ouvert à tous et à toutesMerci de diffuser l’informationAffiches pour diffusion en pièce-jointe Voici une petite bibliographie qui permettra d’aborder la discussion collective en connaissant une partie du travail de notre invité et des thèmes que nous aborderons. \n\nSur son dernier livre Historia de la cumbia peruana. De la música popular a la chicha :\n\nGoogle Books\, pour consulter le sommaire et quelques pages\nÀ propos de son livre\, article de l’Instituto de Estudios Peruanos\, 1 août 2022\nLas letras y melodías de la cumbia se han impregnado de la identidad del Perú\, article de Andina\, 1 août 2022\n\n\nSur la cumbia :\n\nDe la cumbia à la chicha : Lima\, le creuset péruvien\, émission France Culture\, 23 mars 2019\nCiudad Chicha\, documentaire de l’Instituto de Etnomusicología PUCP\, 22 juin 2017\n\n\nAutres :\n\nSon livre Indios detrás de la muralla\, 1999\, PDF disponible sur le site de la PUCP\nJesús Cosamalón\, historiador e investigador de músical y fenomenos sociales\, vidéo de la chaîne Carlos Orozco\, 10 août 2022\nSur la crise politique péruvienne\, podcast de Cuéntame Perú\, 14 avril 2023\nListe des ouvrages de l’historien\, Google Scholar\nProfil sur le site de la PUCP\n\n\n\n***Cet espace existe avant tout pour permettre aux péruvianistes de se connaître\, d’échanger et d’apprendre tout en tissant des liens académiques et scientifiques. Que vous soyez étudiant·es en Licence\, en Master\, doctorant·es\, enseignant·es\, chercheur·euses\, curieux·euses etc. cet espace de discussion est ouvert et collaboratif. ***
URL:https://creda.cnrs.fr/event/encuentro-de-peruanistas-3/
LOCATION:Salle 0.032\, Rez-de-chaussée Bâtiment de Recherche Sud\, 5 Cr des Humanités\, Aubervilliers\, Sélectionner un État :\, 93300\, France
ATTACH;FMTTYPE=application/pdf:https://creda.cnrs.fr/wp-content/uploads/2024/03/Encuentro-Peruanistas-6.pdf
END:VEVENT
BEGIN:VEVENT
DTSTART;TZID=Europe/Paris:20240405T100000
DTEND;TZID=Europe/Paris:20240405T180000
DTSTAMP:20260419T160824
CREATED:20240318T092153Z
LAST-MODIFIED:20240318T092153Z
UID:11335-1712311200-1712340000@creda.cnrs.fr
SUMMARY:Matérialités :  Corps\, Morts et Guérisons
DESCRIPTION:
URL:https://creda.cnrs.fr/event/materialites-corps-morts-et-guerisons/
LOCATION:salle 0.010 BÂTIMENT NORD\, 5 Cr des Humanités\, Aubervilliers\, Sélectionner un État :\, 93300\, France
ATTACH;FMTTYPE=image/jpeg:https://creda.cnrs.fr/wp-content/uploads/2024/03/Sans-titre-2-scaled.jpg
END:VEVENT
BEGIN:VEVENT
DTSTART;TZID=Europe/Paris:20240412T140000
DTEND;TZID=Europe/Paris:20240412T160000
DTSTAMP:20260419T160824
CREATED:20240320T143336Z
LAST-MODIFIED:20240402T085228Z
UID:11345-1712930400-1712937600@creda.cnrs.fr
SUMMARY:Qu’est-ce que le bolsonarisme ? Formes élémentaires de classification de l’extrême droite au Brésil.
DESCRIPTION:SEMINAIRE \nQu’est-ce que le bolsonarisme ? Formes élémentaires de classification de l’extrême droite au Brésil.\nPar \nPedro Luiz Lima Professeur de science politique à l’Université fédérale de Rio de Janeiro – UFRJChercheur invité à l’EHESS \nLe 12 avril 2024\, de14h à 16h  \nSalle 0.033 BÂTIMENT SUD\, Campus Condorcet\, 93322 Aubervilliers \n  \nLa montée de l’extrême droite au Brésil peut être considérée comme l’effet contradictoire et inattendu des prises de position de divers acteurs politiques dans les années 2010\, dont l’histoire est souvent mystifiée par l’utilisation généralisée de la notion de « bolsonarisme ». Dans cette présentation\, Pedro Lima proposera une reconstruction du processus historique qui a abouti à l’accession au pouvoir de Jair Bolsonaro. Sur la base d’une critique de certaines des interprétations les plus influentes du Brésil contemporain\, l’objectif est de mieux délimiter le « bolsonarisme » en tant que phénomène politique et catégorie analytique\, dans l’espoir que l’approfondissement du débat sur le cas brésilien puisse éventuellement éclairer le phénomène plus général de la réémergence des droites autoritaires en Amérique latine.   
URL:https://creda.cnrs.fr/event/quest-ce-que-le-bolsonarisme-formes-elementaires-de-classification-de-lextreme-droite-au-bresil/
LOCATION:salle 0.033 | Bâtiment de recherche sud\, Campus Condorcet\, 5 Cr des Humanités\, Aubervilliers\, 93300\, France
ATTACH;FMTTYPE=image/jpeg:https://creda.cnrs.fr/wp-content/uploads/2024/03/Sans-titre-1-1-scaled.jpg
END:VEVENT
BEGIN:VEVENT
DTSTART;TZID=Europe/Paris:20240426T100000
DTEND;TZID=Europe/Paris:20240426T163000
DTSTAMP:20260419T160824
CREATED:20240416T080032Z
LAST-MODIFIED:20240416T080422Z
UID:11367-1714125600-1714149000@creda.cnrs.fr
SUMMARY:ARTISTES EN RÉSIDENCE DANS LES AVANT-POSTES DE LA SCIENCE - RÉCITS AUTORISÉS ET ALTERNATIVES
DESCRIPTION:Journée d’étude organisée par  Catherine Rannou (CRH-LAVUE-ENSAPVS)etDavid Dumoulin Kervran (USN-IHEAL/CREDA) au sein du séminaire duprojet ANR «Aux avant-postes de la science. Enquêtes de sciences sociales sur les stations scientifiques “éloignées”»(SciOUTPOST\, Janvier 2023 – janvier 2027\, ANR-22-CE55-0008)  \n26 avril 202410h – 16h30 \nÉcole Nationale Supérieure d’Architecture Paris-Val de Seine3/15 quai Panhard Levassor\, 75013 Paris7ème étage\, Salle 705 Laboratoire CRH \n AvecJulie Boileau ; Eloy Feria ; Nicolas Floch ; Anne Stouvenel ; Thomas Tilly ; Laurent Tixador ; Françoise Vincent-Feria \n  \n Lien vers le carnet hypothèse \nAffiche \nProgramme
URL:https://creda.cnrs.fr/event/artistes-en-residence-dans-les-avant-postes-de-la-science-recits-autorises-et-alternatives/
LOCATION:7 ème étage  Salle 705 Laboratoire CRH\, 3/15 quai Panhard Levassor\, Paris\, 75013
ATTACH;FMTTYPE=image/jpeg:https://creda.cnrs.fr/wp-content/uploads/2024/04/Artistes-en-residence-scaled.jpg
END:VEVENT
END:VCALENDAR