BEGIN:VCALENDAR
VERSION:2.0
PRODID:-//CREDA - ECPv6.15.17.1//NONSGML v1.0//EN
CALSCALE:GREGORIAN
METHOD:PUBLISH
X-WR-CALNAME:CREDA
X-ORIGINAL-URL:https://creda.cnrs.fr
X-WR-CALDESC:Évènements pour CREDA
REFRESH-INTERVAL;VALUE=DURATION:PT1H
X-Robots-Tag:noindex
X-PUBLISHED-TTL:PT1H
BEGIN:VTIMEZONE
TZID:Europe/Paris
BEGIN:DAYLIGHT
TZOFFSETFROM:+0100
TZOFFSETTO:+0200
TZNAME:CEST
DTSTART:20240331T010000
END:DAYLIGHT
BEGIN:STANDARD
TZOFFSETFROM:+0200
TZOFFSETTO:+0100
TZNAME:CET
DTSTART:20241027T010000
END:STANDARD
BEGIN:DAYLIGHT
TZOFFSETFROM:+0100
TZOFFSETTO:+0200
TZNAME:CEST
DTSTART:20250330T010000
END:DAYLIGHT
BEGIN:STANDARD
TZOFFSETFROM:+0200
TZOFFSETTO:+0100
TZNAME:CET
DTSTART:20251026T010000
END:STANDARD
BEGIN:DAYLIGHT
TZOFFSETFROM:+0100
TZOFFSETTO:+0200
TZNAME:CEST
DTSTART:20260329T010000
END:DAYLIGHT
BEGIN:STANDARD
TZOFFSETFROM:+0200
TZOFFSETTO:+0100
TZNAME:CET
DTSTART:20261025T010000
END:STANDARD
END:VTIMEZONE
BEGIN:VEVENT
DTSTART;TZID=Europe/Paris:20250512T143000
DTEND;TZID=Europe/Paris:20250512T173000
DTSTAMP:20260420T131103
CREATED:20250401T181510Z
LAST-MODIFIED:20250513T133059Z
UID:12844-1747060200-1747071000@creda.cnrs.fr
SUMMARY:Projection-débat : Una canción para mi tierra
DESCRIPTION:Dans la continuité du Festival Biarritz Amérique latine (FBAL)📅 Date : 12 mai 2025📍 Lieu : Campus Condorcet – Centre des colloques\, Auditorium 250Adresse : Place du Front Populaire\, 93300 Aubervilliers🕝 Heure de début : 14h30 \nLe film\nUna canción para mi tierraUn documentaire de Mauricio Albornoz IniestaAvec Ramiro Martin Lezcano\, professeur de musique \n🎥 Synopsis : \nDans un village rural d’Argentine\, Ramiro Lezcano\, professeur de musique charismatique\, découvre que des produits chimiques sont pulvérisés près des écoles\, mettant en danger ses élèves. Il s’associe à eux pour composer des chansons de dénonciation\, mais se heurte à la résistance d’une communauté dépendante du modèle agricole local. Déterminé à se faire entendre\, il lance l’idée d’un « Woodstock environnemental » pour faire résonner leur message. \nAu programme\n• 14h30 : Projection du documentaire• 16h00 : Échange avec les étudiant·es\, collégien·nes et le public• 16h45 : Pause• 17h15 : Débat avec les chercheuses de l’IHEAL-CREDA \nLes échanges auront lieu en français et espagnol (traduction assurée) \nÉvénement ouvert à tous et à toutes \n Intervenants :• Mauricio Albornoz Iniesta\, réalisateur• Ramiro Martin Lezcano\, professeur de musique• Modération : Anaïs Vidal-Jaumary \n📩 Contact : anais.vidal@sorbonne-nouvelle.fr📝 Inscription vivement conseillée : Formulaire en ligne \nOrganisée à l’initiative d’Anaïs Vidal (doctorante en histoire\, membre du jury étudiant du FBAL)\, cette rencontre s’inscrit dans une dynamique de soutien à la vie doctorale portée par l’IHEAL-CREDA. \nDans le cadre de l’« Avant-Après » des Semaines de l’Amérique latine et des Caraïbes 2025.
URL:https://creda.cnrs.fr/event/projection-debat-una-cancion-para-mi-tierra/
LOCATION:salle 100 | Centre de colloques du Campus Condorcet\, Place du Front Populaire\, Aubervilliers\, 93300
CATEGORIES:Projection-débat
ATTACH;FMTTYPE=image/png:https://creda.cnrs.fr/wp-content/uploads/2025/04/Festival-Biarritz-Paris.png
END:VEVENT
BEGIN:VEVENT
DTSTART;TZID=Europe/Paris:20250515T100000
DTEND;TZID=Europe/Paris:20250515T183000
DTSTAMP:20260420T131103
CREATED:20250429T130907Z
LAST-MODIFIED:20250616T093051Z
UID:12862-1747303200-1747333800@creda.cnrs.fr
SUMMARY:Traduction : pratiques et concepts
DESCRIPTION:Journée d’Étude\nDialogues entre anthropologie linguistique et sociologie de la traduction \n15 mai 2025\, 10h – 18h30Campus Condorcet – Centre de colloque\, salle 100Aubervilliers \nCette journée d’étude a pour vocation de faire dialoguer différentes approches de la traduction\, à la fois comme pratique en anthropologie linguistique et comme concept en sociologie et anthropologie\, notamment lorsqu’il s’agit de penser les déplacements de sens selon les contextes. Un dialogue que l’on espère plein de malentendus productifs entre sciences sociales\, anthropologie linguistique et sociologie de la traduction. \nProgramme\n10h – 10h30IntroductionJean Foyer (CNRS / CREDA) et Camille Riverti (CNRS / CREDA) \n10h30 – 12hMarie Vesco (CREDA)« Traduire le soin. Étude d’un réceptaire en guarani des missions jésuites du Paraguay (XVIIIe s.) »Discussion : Michael Orantin (CRH) \n13h30 – 15h30Discussion croisée entre Alexandre Surrallés (LAS) et Capucine Boidin (IHEAL / CREDA) autour de leurs ouvrages :– Alexandre Surrallés\, La raison lexicographique. Découverte des langues et origine de l’anthropologie\, Fayard\, 2023– Capucine Boidin\, Des mots dans l’histoire. Essai d’anthropologie politique guarani (XIXe–XVIe et XVIe–XIXe)\, Inalco Presse\, 2025 \n16h – 17h30Mélanie Congretel (Université Rennes 2)« Traduire sans trahir : réinventer et normaliser l’authenticité du guarana chez les Sateré-Mawé (Amazonie brésilienne) »Discussion : Camille Riverti (CNRS / CREDA) \n17h30 – 18h30Discussion finale
URL:https://creda.cnrs.fr/event/traduction-pratiques-et-concepts/
LOCATION:salle 100 | Centre de colloques du Campus Condorcet\, Place du Front Populaire\, Aubervilliers\, 93300
CATEGORIES:Axe Matérialités,Journée d'études
ATTACH;FMTTYPE=image/png:https://creda.cnrs.fr/wp-content/uploads/2025/04/Affiche-Journee-etude-traduction.png
END:VEVENT
BEGIN:VEVENT
DTSTART;TZID=Europe/Paris:20250516T140000
DTEND;TZID=Europe/Paris:20250516T160000
DTSTAMP:20260420T131103
CREATED:20250429T091226Z
LAST-MODIFIED:20250430T122621Z
UID:12852-1747404000-1747411200@creda.cnrs.fr
SUMMARY:Enquêter en contextes violents : criminalité\, peur et enjeux de terrain
DESCRIPTION:Rencontre avec Marwan Mohammed. Dans le cadre du Séminaire de recherche en sociologie\n \n📅 Date : 16 mai 2025🕑 Horaire : 14h00 – 16h00📍 Salle : 4.023 \nLe Séminaire de Recherche en Sociologie\, l’IHEAL et le CREDA ont le plaisir de recevoir Marwan Mohammed (Chargé de recherche\, CNRS\, Centre Maurice Halbwachs) pour une séance autour des enjeux du travail de recherche quand il s’agit d’enquêter sur des activités criminelles\, sur des situations en contextes dits sensibles\, voire violents. \nDe l’entrée sur le terrain à la publication\, Marwan Mohammed reviendra sur ses travaux majoritairement menés en France tout en proposant des croisements\, des ouvertures avec les contextes latino-américains. Bien que distinctes\, les expressions de violence dans les quartiers populaires dans l’hexagone et en Amérique latine nous confrontent à des défis méthodologiques et analytiques communs qu’il est important d’identifier et de discuter pour mener nos recherches. Aussi\, dans un dialogue qui entend circuler de part de d’autre de l’Atlantique\, l’intention de cette rencontre est de discuter ces enjeux\, d’interroger les contraintes\, les limites de ces enquêtes\, et de questionner la place d’un chercheur ou d’une chercheuse quand il ou elle s’immisce dans ces lieux d’enquêtes\, au cœur de ces espaces sociaux.  \n\nLa séance sera accessible à distance au lien suivant : https://cnrs.zoom.us/j/94016077306?pwd=6T2Ab9oiFqoTHwxeyN67sFosx4Xy5V.1\n\n\nSéance coordonnée et animée par Harol Gonzalz Duque et Maïwenn Raoul \nContacts : \n\nharol.gonzalez-duque@sorbonne-nouvelle.fr\nmaiwenn.raoul@sorbonne-nouvelle.fr
URL:https://creda.cnrs.fr/event/enqueter-en-contextes-violents-criminalite-peur-et-enjeux-de-terrain/
LOCATION:salle 4.023\, 4e étage du bâtiment de recherche sud | Campus Condorcet\, 5 Cr des Humanités\, Aubervilliers\, 93300\, France
CATEGORIES:Séminaire
ATTACH;FMTTYPE=image/png:https://creda.cnrs.fr/wp-content/uploads/2025/04/Affiche-Seminaire-SRS_16-mai.png
END:VEVENT
BEGIN:VEVENT
DTSTART;TZID=Europe/Paris:20250516T140000
DTEND;TZID=Europe/Paris:20250516T160000
DTSTAMP:20260420T131103
CREATED:20250429T132332Z
LAST-MODIFIED:20251124T164007Z
UID:12866-1747404000-1747411200@creda.cnrs.fr
SUMMARY:Au-delà du crime. Ethnographie d'un gang transnational
DESCRIPTION:Dans le cadre du séminaire Politique et sociétés comparées (POSOC)\, l’IHEAL et le CREDA-UMR 7227 ont le plaisir de recevoir\, pour une présentation de son ouvrage : Au-delà du crime. Ethnographie d’un gang transnational\, Martin Lamotte (Laboratoire d’anthropologie politique – LAP CNRS / EHESS) \nLa discussion sera assurée par :Gabriel Feltran (CEE – CNRS / Sciences Po)Romain Busnel (CREDA – CNRS / USN) \nSéance coordonnée par :Louise Cadorel et Jonathan Coronel(CREDA – CNRS / USN) \nVendredi 16 mai 2025\, 14h – 16hCampus Condorcet\, bâtiment de recherche sud\, salle 5.023 (Jopoi)Aubervilliers (métro Front Populaire)
URL:https://creda.cnrs.fr/event/au-dela-du-crime-ethnographie-dun-gang-transnational/
LOCATION:Salle Jopoï 5.023 | Bâtiment de Recherche Sud\, Campus Condorcet\, 5\, cours des Humanités\, Aubervilliers\, 93322\, France
CATEGORIES:POSOC,Présentation d'ouvrage
ATTACH;FMTTYPE=image/jpeg:https://creda.cnrs.fr/wp-content/uploads/2025/04/Affiche-Seminaire-16-MAI.jpg
END:VEVENT
BEGIN:VEVENT
DTSTART;TZID=Europe/Paris:20250516T150000
DTEND;TZID=Europe/Paris:20250516T163000
DTSTAMP:20260420T131103
CREATED:20250515T131544Z
LAST-MODIFIED:20250515T131627Z
UID:12887-1747407600-1747413000@creda.cnrs.fr
SUMMARY:Desigualdades y diálogos de saberes en salud materno-infantil en Ecuador
DESCRIPTION:Séances exceptionnelles du séminaire d’économie appliquée de l’Amérique latine (EADAL). Vendredi 16 et lundi 19 mai. \n \nÀ travers deux séances ouvertes au public\, ce séminaire propose une réflexion sur les inégalités et les savoirs liés à la santé materno-infantile en Équateur. Les échanges auront lieu en anglais et espagnol. \n📍 Campus Condorcet – Métro Front Populaire93322 Aubervilliers✉️ Contact : vera.chiodi@sorbonne-nouvelle.fr \n\nVendredi 16 mai 2025 \n🕒 15h00 – 16h30📌 Thème : Malnutrition infantile y alimentación escolar👤 Intervenant·es : \n\n\nJairo Rivera – Universidad Andina Simón Bolívar \n\n\nCarolina Sinchiguano – FLACSO Ecuador📍 Lieu : Salle 2.083\, Bâtiment de Recherche Nord💻 En ligne : https://meet.google.com/pdi-zway-gmp \n\n\n\nLundi 19 mai 2025 \n🕒 15h00 – 16h30📌 Thème : Diálogo de saberes en salud ancestral y partería👤 Intervenante : Rocío Vera – Universidad Libre de Berlín📍 Lieu : Salle 6.040\, Bâtiment de Recherche Sud💻 En ligne : https://meet.google.com/niz-rphw-czb \n\n📷 Crédit photo : Florian Domergue
URL:https://creda.cnrs.fr/event/desigualdades-y-dialogos-de-saberes-en-salud-materno-infantil-en-ecuador-2/
CATEGORIES:EPADAL,Séminaire
ATTACH;FMTTYPE=image/jpeg:https://creda.cnrs.fr/wp-content/uploads/2025/05/Affiche-Seminaire-16-et-19-mai.jpg
END:VEVENT
BEGIN:VEVENT
DTSTART;TZID=Europe/Paris:20250516T160000
DTEND;TZID=Europe/Paris:20250516T190000
DTSTAMP:20260420T131103
CREATED:20250422T085909Z
LAST-MODIFIED:20250422T090229Z
UID:12836-1747411200-1747422000@creda.cnrs.fr
SUMMARY:Séminaire TRACS : Cinéma
DESCRIPTION:Le prochain séminaire de Transatlantic Cultures en partenariat avec le projet\n« Américanisation par les arts » (MSH Paris-Saclay) aura lieu le \nVendredi 16 mai 2025\nà l’Institut National d’Histoire de l’Art\n2\, rue Vivienne\, 75002 Paris\,\nen salle Peiresc\, de 16h à 19h \nAu programme : \nKatalin Pór (Université Paris 8 Vincennes-Saint Denis/IUF) \net Marc Cerisuelo (Université Gustave Eiffel/IUF) \nModération: Claire Demoulin (Université de Montpellier Paul Valéry/RiRRa21) \nRésumés des présentations : \nRéseaux d’Européens et politisation du cinéma hollywoodien durant la décennie 1930\nKatalin Pór \nL’arrivée des professionnels européens du spectacle à Hollywood\, durant la décennie 1930\, s’organise massivement au travers de réseaux fonctionnant aussi bien à l’échelle nationale que transnationale. Croisant proximités amicales\, affinités politiques\, et liens professionnels\, ils offrent à ces artistes exilés des possibilités de peser sur les processus de fabrication des films auxquels ils participent\, et\, ce faisant\, de contribuer à l’élaboration de leur contenu politique. \nKatalin Pór est professeure en études cinématographiques à l’Université Paris 8 Vincennes-Saint Denis et membre de l’Institut Universitaire de France. Elle a récemment publié Lubitsch à Hollywood. L’exercice du pouvoir créatif dans les studios\, aux éditions du CNRS. Elle coordonne\, avec Bérénice Bonhomme\, le réseau de recherche Création Collective au Cinéma\, et est également présidente de l’Association Française de Recherche sur l’Histoire du Cinéma (AFRHC) \nL’invention française de Hollywood : le cas du film noir\nMarc Cerisuelo (Université Gustave Eiffel/IUF)\n \nL’historicité du cinéma pousse à reconsidérer des positions pourtant fort bien assurées. Qui s’intéresserait (vraiment) à Hollywood sans le discours de la critique française ? Comment a-t-on pu (sérieusement) conférer une dignité artistique à une production de masse aux allures conquérantes ? L’exemple (apparemment) connu du film noir réserve des surprises. Y compris du côté de la critique américaine… \nMarc Cerisuelo est un spécialiste d’études cinématographiques. Il a travaillé pour le CNRS\, pour les universités Sorbonne nouvelle\, Paris Diderot et Aix-Marseille (AMU). Ses travaux ont concerné les transferts culturels dans le cinéma américain\, la poétique des films\, la comédie américaine\, l’histoire et la théorie de la critique\, les relations littérature-cinéma et philosophie-cinéma. Il a notamment été  un des introducteurs en France de la pensée de Stanley Cavell. \nLectures\nRaymond Borde et Étienne Chaumeton\, Panorama du film noir américain\, Minuit\, 1955.\nJean-Loup Bourget\, Hollywood\, un rêve européen\, Armand Colin\, 2006.\nMarc Cerisuelo\, Fondus enchaînés. Essais de poétique du cinéma\, Seuil\, coll. « Poétique »\, 2012 (notamment  le chapitre intitulé « Le grand sommeil de l’introuvable dame du lac »\, p.47-79\, disponible sur Fabula).\nJean-Pierre Esquenazi\, Le Film noir\, CNRS Éditions\, 2012.\nJames Naremore\, More Than Night: Film Noir and Its Contexts\, University of  California Press\, 1997.
URL:https://creda.cnrs.fr/event/seminaire-tracs-cinema/
LOCATION:Institut National d’Histoire de l’Art\, 2\, rue Vivienne\, Paris\, 75002\, France
CATEGORIES:Hors les murs,Séminaire
ATTACH;FMTTYPE=image/jpeg:https://creda.cnrs.fr/wp-content/uploads/2025/04/seminaire-TRACS-16-05-2025-FR-1-scaled.jpg
END:VEVENT
BEGIN:VEVENT
DTSTART;TZID=Europe/Paris:20250522T190000
DTEND;TZID=Europe/Paris:20250522T210000
DTSTAMP:20260420T131103
CREATED:20250422T092512Z
LAST-MODIFIED:20250422T092512Z
UID:12841-1747940400-1747947600@creda.cnrs.fr
SUMMARY:Des guerres mémorielles ? Les sociétés latino-américaines face à leur passé récent
DESCRIPTION:Tribune de l’actualité latino-américaine\n📅 Jeudi 22 mai 2025 – 19h \n📍 Maison de l’Amérique latine217 boulevard Saint-Germain – 75007 Paris(Métro Solférino / Rue du Bac – RER Musée d’Orsay – Bus : 63\, 68\, 69\, 73\, 83\, 84\, 94) \n\nThème de la séance : Des guerres mémorielles ? Les sociétés latino-américaines face à leur passé récent\nCette nouvelle édition de la Tribune de l’actualité latino-américaine abordera les enjeux mémoriels et les tensions autour du passé récent dans les sociétés d’Amérique latine. \nInvité :Lucas MartínPolitiste\, Conseil national de la recherche scientifique et technique (Argentine) \nTribune animée par :Olivier Compagnon\, Anaïs Fléchet\, Lamia Oualalou\, Christophe Ventura \n\nÀ propos de la Tribune\nLa Tribune de l’actualité latino-américaine est un rendez-vous mensuel ouvert au grand public\, consacré à l’analyse des grandes mutations de la région. \nChaque mois\, universitaires\, experts et diplomates échangent autour de thématiques actuelles : \n\n\nPolitique \n\n\nÉconomie\, société et culture \n\n\nEnjeux climatiques et environnementaux \n\n\n L’objectif est de comprendre la place de l’Amérique latine et des Caraïbes dans les dynamiques géopolitiques mondiales. \n\nProchaine séance : jeudi 12 juin 2025 \nInformations : 01 49 54 75 00 \nContact : culturel@mal217.org www.mal217.org
URL:https://creda.cnrs.fr/event/des-guerres-memorielles-les-societes-latino-americaines-face-a-leur-passe-recent/
LOCATION:Maison de l’Amérique latine\, 217\, bd saint-germain\, Paris\, 75007\, France
CATEGORIES:Conférence - débat,Hors les murs
ATTACH;FMTTYPE=image/jpeg:https://creda.cnrs.fr/wp-content/uploads/2025/04/TALAC-22.05.25-FR.jpg
END:VEVENT
BEGIN:VEVENT
DTSTART;TZID=Europe/Paris:20250523T100000
DTEND;TZID=Europe/Paris:20250523T130000
DTSTAMP:20260420T131103
CREATED:20250327T155056Z
LAST-MODIFIED:20250314T222706Z
UID:12126-1747994400-1748005200@creda.cnrs.fr
SUMMARY:Séance 3 Mapas que cuentan historias. Cartografía en acción : herramientas para la Cartografía Avanzada
DESCRIPTION:Présence de Mir Rodriguez Lombardo au CREDA\n\n23 mai (10h-13h) Cartografía en acción: Herramientas para la Cartografía Avanzada Atelier pratique pour apprendre à résoudre des problèmes avec des techniques intermédiaires et avancées de cartographie en utilisant des outils informatiques libres (QGIS\, Inkscape\, etc.).\n\nNous avons le plaisir de vous informer de la présence au CREDA pour ce semestre de Mir Rodriguez Lombardo\, cartographe indépendant\, travaillant sur de nombreux projets au Mexique et en Amérique centrale. Profitez de cette belle opportunité ! \n\nAteliers et Appui aux Projets\nMir proposera des ateliers collectifs et un appui à vos projets individuels : \n\n\nTrois ateliers en espagnol autour de la narration cartographique et de l’utilisation des IA pour produire\, visualiser\, spatialiser et transformer nos données : \nMapas que cuentan historias : Talleres de cartografía e investigación espacial \nDates et Lieu : \n\nTous les ateliers auront lieu en Salle Jopoï au 5ème étage.\n\nAteliers passés\n \n\n\n28 mars (10h-13h) El arte de narrar con mapas: Preguntas críticas y diseño conceptual Analyse de cas d’étude de cartographie et de recherche critique pour développer des cartes avec une approche narrative. \n\n\n25 avril (10h-13h) La cartografía como puente: Ética\, comunidades y datos complejos Exploration de l’éthique en recherche\, de la cartographie participative et de l’utilisation de l’IA pour structurer des données dans des contextes avec des informations limitées et des données qualitatives. \n\n\nInscription : Pour vous inscrire\, envoyez un mail à : mir@almanaqueazul.org et laurine.chapon@sorbonne-nouvelle.fr. \nN’hésitez pas à participer à ces ateliers pratiques\, conçus pour que vous puissiez ensuite mobiliser ces éléments pour vos recherches. Ouvert à tous les doctorants et chercheurs\, quel que soit leur domaine ! \n\n\nAssistance Individuelle : Mir sera disponible dès le début du mois de mars et régulièrement présent au CREDA pour vous aider dans vos projets de cartes et de représentations visuelles. Contactez-le par mail pour convenir d’un rendez-vous selon ses disponibilités.
URL:https://creda.cnrs.fr/event/mapas-que-cuentan-historias-talleres-de-cartografia-e-investigacion-espacial/
LOCATION:Salle Jopoï 5.023 | Bâtiment de Recherche Sud\, Campus Condorcet\, 5\, cours des Humanités\, Aubervilliers\, 93322\, France
CATEGORIES:Atelier
ATTACH;FMTTYPE=image/png:https://creda.cnrs.fr/wp-content/uploads/2025/03/Atelier-Mapas-que-cuentan-historias.png
END:VEVENT
BEGIN:VEVENT
DTSTART;TZID=Europe/Paris:20250523T140000
DTEND;TZID=Europe/Paris:20250523T160000
DTSTAMP:20260420T131103
CREATED:20250513T085935Z
LAST-MODIFIED:20250514T132503Z
UID:12877-1748008800-1748016000@creda.cnrs.fr
SUMMARY:Politisation de rejet et production du consentement dans la périphérie pauvre de Rio de Janeiro : une entrée par la religion vécue
DESCRIPTION:Séminaire Central \nVendredi 23 mai\, de 14h à 16hIntervenante : Camille Goirand\, professeuse à l’IHEALLieu : Campus Condorcet – Bâtiment Recherche Sud\, salle 0.030 \n\nTitre de la séance : Politisation de rejet et production du consentement dans la périphérie pauvre de Rio de Janeiro : une entrée par la religion vécue \n\nRésumé \nÀ partir d’une entrée par l’inscription spatiale du religieux à Rio de Janeiro\, puis par la restitution d’un dimanche ordinaire dans une petite église de l’Assemblée de Dieu de la zone Ouest\, cette séance aborde les pentecôtismes par le quotidien de la « religion vécue ». \nL’ordinaire de la pratique religieuse et son ancrage dans la sociabilité de quartier ouvrent une fenêtre pour saisir le rapport au politique des fidèles. Le quartier et l’église représentent des espaces où s’exercent des dominations multiples\, inscrites à différentes échelles – qu’il s’agisse de groupes armés\, des mondes religieux ou du politique. Les observations rapprochées\, menées au plus près de groupes de fidèles\, permettent de saisir l’intrication des rapports de domination et des processus de production du consentement\, dans ces espaces sociaux surveillés et disciplinés. \nDepuis les églises de quartier\, l’enquête a permis de recueillir des paroles de colère vis-à-vis du politique corrompu\, mais aussi l’association entre une droitisation de refus et de rejet et l’absence d’action collective contestataire. L’ensemble conforte la position subalterne des fidèles de classe populaire et participe à la production du consentement en leur sein. \nCette présentation s’appuie sur des données ethnographiques recueillies lors de plusieurs séjours effectués à Rio de Janeiro entre décembre 2021 et janvier 2025\, dans le cadre du projet ANR CORRUPT-AL.
URL:https://creda.cnrs.fr/event/politisation-de-rejet-et-production-du-consentement-dans-la-peripherie-pauvre-de-rio-de-janeiro-une-entree-par-la-religion-vecue/
LOCATION:Salle 0.030 – Bâtiment recherche sud\, 5 Cr des Humanités\, Aubervilliers\, Sélectionner un État :\, 93300\, France
CATEGORIES:Séminaire Central
ATTACH;FMTTYPE=image/png:https://creda.cnrs.fr/wp-content/uploads/2025/05/Affiche-Seminaire-central_23mai2025.png
END:VEVENT
BEGIN:VEVENT
DTSTART;TZID=Europe/Paris:20250523T163000
DTEND;TZID=Europe/Paris:20250523T180000
DTSTAMP:20260420T131103
CREATED:20250513T123036Z
LAST-MODIFIED:20250513T133012Z
UID:12881-1748017800-1748023200@creda.cnrs.fr
SUMMARY:Rencontre : Navegar por el monte / Naviguer dans la montagne
DESCRIPTION:Conversation autour de la construction de pirogues \n📅 Date : Vendredi 23 mai 2025🕓 Horaire : 16h30 – 18h00📍 Lieu : Salle 0.030 – Bâtiment Sud\, Campus Condorcet(Métro Front Populaire – 93300 Aubervilliers) \n\nLe CREDA a le plaisir de vous inviter à une discussion avec Segundo Caisamo\, membre de la communauté Embera Drua sur le Rio Chagres au Panama\, à l’origine du projet JENENE avec la photographe Enea Lebrun.\nSi en aval du Rio Chagres\, les plus gros porte-conteneurs et autres supertankers du capitalisme globalisé circulent sur le canal de Panama\, tout en amont du même fleuve\, les Embera continuent à transformer certains arbres de la jungle en pirogue\, pour circuler sur le fleuve évidemment\, mais aussi pour en faire commerce. On essaiera de décomposer la chaîne opératoire pour fabriquer ces pirogues\, en nous centrant sur l’étape qui consiste à descendre la pirogue pré-taillée de la montagne jusqu’au fleuve. \nLa discussion\, en espagnol\, sera introduite par Jean Foyer\, qui mène une recherche sur les écologies du quotidien à Embera Drua depuis 2020. \n  \n\n🎟️ Entrée libre – Venez nombreuses et nombreux écouter Segundo !
URL:https://creda.cnrs.fr/event/rencontre-navegar-por-el-monte-naviguer-dans-la-montagne/
LOCATION:Salle 0.030 – Bâtiment recherche sud\, 5 Cr des Humanités\, Aubervilliers\, Sélectionner un État :\, 93300\, France
CATEGORIES:Rencontre
ATTACH;FMTTYPE=image/png:https://creda.cnrs.fr/wp-content/uploads/2025/05/Rencontre-Segundo-Caisamo-1.png
END:VEVENT
BEGIN:VEVENT
DTSTART;TZID=Europe/Paris:20250525T150000
DTEND;TZID=Europe/Paris:20250525T180000
DTSTAMP:20260420T131103
CREATED:20250516T154008Z
LAST-MODIFIED:20250516T154349Z
UID:12894-1748185200-1748196000@creda.cnrs.fr
SUMMARY:Présentation et vente-signature du roman graphique Magdalena\, femmes du fleuve
DESCRIPTION:Dans le cadre du Forum « L’Amérique latine partout »\, nous avons le plaisir de vous inviter à la présentation et à la vente-signature du roman graphique Magdalena\, femmes du fleuve. \n📅 Date : Dimanche 25 mai🕒 Heure : 15h📍 Lieu : Maison de l’Amérique latine\, 217 boulevard Saint-Germain\, Paris🚇 Métro : Solférino \nCette rencontre exceptionnelle se déroulera en présence de Carolina Hernández\, Flora Lecomte et Sophie Hache\, pour un moment d’échange autour de la création de ce roman graphique engagé\, au croisement de la mémoire\, du féminisme et de l’écologie. \n\nUn événement inscrit dans le cadre des Semaines de l’Amérique latine et des Caraïbes – SALC 2025\nCette présentation s’inscrit dans le Forum de la Maison de l’Amérique latine\, qui inaugure les SALC 2025. Organisé les 23\, 24 et 25 mai\, ce forum réunit un large éventail de partenaires institutionnels\, associatifs\, universitaires\, culturels et économiques investis dans la relation entre la France\, l’Amérique latine et les Caraïbes. \nOuvert à toutes et tous\, ce rendez-vous entend favoriser les rencontres\, les échanges d’idées\, les débats et les expressions artistiques. Une occasion unique de célébrer la richesse des cultures latino-américaines et caribéennes tout en renforçant les liens entre nos régions. \nVenez nombreuses et nombreux découvrir un roman graphique puissant et rencontrer ses autrices dans un cadre convivial et engagé.
URL:https://creda.cnrs.fr/event/presentation-et-vente-signature-du-roman-graphique-magdalena-femmes-du-fleuve/
LOCATION:Maison de l’Amérique latine\, 217\, bd saint-germain\, Paris\, 75007\, France
CATEGORIES:Présentation d'ouvrage
ATTACH;FMTTYPE=image/jpeg:https://creda.cnrs.fr/wp-content/uploads/2025/05/Magdalena_MAL-2-scaled.jpg
END:VEVENT
BEGIN:VEVENT
DTSTART;TZID=Europe/Paris:20250526T143000
DTEND;TZID=Europe/Paris:20250526T163000
DTSTAMP:20260420T131103
CREATED:20250415T085359Z
LAST-MODIFIED:20250516T154204Z
UID:12823-1748269800-1748277000@creda.cnrs.fr
SUMMARY:La antropología y el indigenismo en la era de la modernización : notas comparativas de Perú\, Brasil y México (1960-1970)
DESCRIPTION:La antropología y el indigenismo en la era de la modernización. Notas comparativas de Perú\, Brasil y México (1960-1970)La charla plantea una discusión histórica comparativa del proceso de emergencia de una antropología crítica que en plena era de la modernización cuestionó las prácticas de gestión indigenista en Brasil\, Perú y México entre 1960 y 1970. La charla explora algunas hipótesis iniciales sobre las relaciones políticas y conceptuales que la comunidad académica de estos tres países estableció con los procesos de formación estatal y la cartografía nacional de la cuestión indígena y/o campesina. El resultado fue la producción de una antropología crítica del mestizaje y de las relaciones interétnicas que cuestionó el carácter civilizatorio y asimilacionista de las políticas de modernización indigenista. \nDans le cadre du programme ECOS-Nord «Processus de violence et de postviolence au Pérou : changements et continuités» (MEAE et MESRI / CONCYTEC).
URL:https://creda.cnrs.fr/event/la-antropologia-y-el-indigenismo-en-la-era-de-la-modernizacion-notas-comparativas-de-peru-brasil-y-mexico-1960-1970/
LOCATION:Salle Jopoï 5.023 | Bâtiment de Recherche Sud\, Campus Condorcet\, 5\, cours des Humanités\, Aubervilliers\, 93322\, France
CATEGORIES:Conférence
ATTACH;FMTTYPE=image/png:https://creda.cnrs.fr/wp-content/uploads/2025/04/Affiche-conference-26-mai-1.png
END:VEVENT
END:VCALENDAR